Workbook

Sheet Schichtplan
A1: Schichtplan
A3: Monat: | C3: Jahr:
A5: Mitarbeiter/in | B5: 1 | C5: 2 | D5: 3 | E5: 4 | F5: 5 | G5: 6 | H5: 7 | I5: 8 | J5: 9 | K5: 10 | L5: 11 | M5: 12 | N5: 13 | O5: 14 | P5: 15 | Q5: 16 | R5: 17 | S5: 18 | T5: 19 | U5: 20 | V5: 21 | W5: 22 | X5: 23 | Y5: 24 | Z5: 25 | AA5: 26 | AB5: 27 | AC5: 28 | AD5: 29 | AE5: 30 | AF5: 31 | AG5: Schichten | AH5: Abwesenheit
A6: Beispielzeilen, bitte überschreiben | B6: F | C6: F | D6: S | E6: S | F6: N | G6: - | H6: - | I6: F | J6: F | K6: S | L6: S | M6: N | N6: - | O6: - | P6: F | Q6: F | R6: S | S6: S | T6: N | U6: - | V6: - | W6: F | X6: F | Y6: S | Z6: S | AA6: N | AB6: - | AC6: - | AD6: F | AE6: F | AF6: S | AG6: =COUNTA(B6:AF6)-(COUNTIF(B6:AF6,'Legende'!$A$6)+COUNTIF(B6:AF6,'Legende'!$A$7)+COUNTIF(B6:AF6,'Legende'!$A$8)) | AH6: =COUNTIF(B6:AF6,'Legende'!$A$6)+COUNTIF(B6:AF6,'Legende'!$A$7)
AG7: =COUNTA(B7:AF7)-(COUNTIF(B7:AF7,'Legende'!$A$6)+COUNTIF(B7:AF7,'Legende'!$A$7)+COUNTIF(B7:AF7,'Legende'!$A$8)) | AH7: =COUNTIF(B7:AF7,'Legende'!$A$6)+COUNTIF(B7:AF7,'Legende'!$A$7)
AG8: =COUNTA(B8:AF8)-(COUNTIF(B8:AF8,'Legende'!$A$6)+COUNTIF(B8:AF8,'Legende'!$A$7)+COUNTIF(B8:AF8,'Legende'!$A$8)) | AH8: =COUNTIF(B8:AF8,'Legende'!$A$6)+COUNTIF(B8:AF8,'Legende'!$A$7)
AG9: =COUNTA(B9:AF9)-(COUNTIF(B9:AF9,'Legende'!$A$6)+COUNTIF(B9:AF9,'Legende'!$A$7)+COUNTIF(B9:AF9,'Legende'!$A$8)) | AH9: =COUNTIF(B9:AF9,'Legende'!$A$6)+COUNTIF(B9:AF9,'Legende'!$A$7)
AG10: =COUNTA(B10:AF10)-(COUNTIF(B10:AF10,'Legende'!$A$6)+COUNTIF(B10:AF10,'Legende'!$A$7)+COUNTIF(B10:AF10,'Legende'!$A$8)) | AH10: =COUNTIF(B10:AF10,'Legende'!$A$6)+COUNTIF(B10:AF10,'Legende'!$A$7)
AG11: =COUNTA(B11:AF11)-(COUNTIF(B11:AF11,'Legende'!$A$6)+COUNTIF(B11:AF11,'Legende'!$A$7)+COUNTIF(B11:AF11,'Legende'!$A$8)) | AH11: =COUNTIF(B11:AF11,'Legende'!$A$6)+COUNTIF(B11:AF11,'Legende'!$A$7)
AG12: =COUNTA(B12:AF12)-(COUNTIF(B12:AF12,'Legende'!$A$6)+COUNTIF(B12:AF12,'Legende'!$A$7)+COUNTIF(B12:AF12,'Legende'!$A$8)) | AH12: =COUNTIF(B12:AF12,'Legende'!$A$6)+COUNTIF(B12:AF12,'Legende'!$A$7)
AG13: =COUNTA(B13:AF13)-(COUNTIF(B13:AF13,'Legende'!$A$6)+COUNTIF(B13:AF13,'Legende'!$A$7)+COUNTIF(B13:AF13,'Legende'!$A$8)) | AH13: =COUNTIF(B13:AF13,'Legende'!$A$6)+COUNTIF(B13:AF13,'Legende'!$A$7)
AG14: =COUNTA(B14:AF14)-(COUNTIF(B14:AF14,'Legende'!$A$6)+COUNTIF(B14:AF14,'Legende'!$A$7)+COUNTIF(B14:AF14,'Legende'!$A$8)) | AH14: =COUNTIF(B14:AF14,'Legende'!$A$6)+COUNTIF(B14:AF14,'Legende'!$A$7)
AG15: =COUNTA(B15:AF15)-(COUNTIF(B15:AF15,'Legende'!$A$6)+COUNTIF(B15:AF15,'Legende'!$A$7)+COUNTIF(B15:AF15,'Legende'!$A$8)) | AH15: =COUNTIF(B15:AF15,'Legende'!$A$6)+COUNTIF(B15:AF15,'Legende'!$A$7)
AG16: =COUNTA(B16:AF16)-(COUNTIF(B16:AF16,'Legende'!$A$6)+COUNTIF(B16:AF16,'Legende'!$A$7)+COUNTIF(B16:AF16,'Legende'!$A$8)) | AH16: =COUNTIF(B16:AF16,'Legende'!$A$6)+COUNTIF(B16:AF16,'Legende'!$A$7)
AG17: =COUNTA(B17:AF17)-(COUNTIF(B17:AF17,'Legende'!$A$6)+COUNTIF(B17:AF17,'Legende'!$A$7)+COUNTIF(B17:AF17,'Legende'!$A$8)) | AH17: =COUNTIF(B17:AF17,'Legende'!$A$6)+COUNTIF(B17:AF17,'Legende'!$A$7)
AG18: =COUNTA(B18:AF18)-(COUNTIF(B18:AF18,'Legende'!$A$6)+COUNTIF(B18:AF18,'Legende'!$A$7)+COUNTIF(B18:AF18,'Legende'!$A$8)) | AH18: =COUNTIF(B18:AF18,'Legende'!$A$6)+COUNTIF(B18:AF18,'Legende'!$A$7)
... AG20: =COUNTA(B20:AF20)-(COUNTIF(B20:AF20,'Legende'!$A$6)+COUNTIF(B20:AF20,'Legende'!$A$7)+COUNTIF(B20:AF20,'Legende'!$A$8)) | AH20: =COUNTIF(B20:AF20,'Legende'!$A$6)+COUNTIF(B20:AF20,'Legende'!$A$7)
A22: Schichtcodes im Blatt „Legende“ anpassen; die Summenspalten zählen alles außer Abwesenheits- und Frei-Codes als Schicht.
A23: Für jeden Monat eine eigene Kopie anlegen.
A24: Stand: 2026-08-18. Alle Angaben ohne Gewähr, keine Rechtsberatung.
A25: Hinweis: Die Datei prüft keine Ruhezeiten (§ 5 ArbZG) und keine Höchstarbeitszeiten (§ 3 ArbZG).

Sheet Legende
A1: Schichtcodes, frei anpassbar
A2: Code | B2: Bezeichnung
A3: F | B3: Frühschicht
A4: S | B4: Spätschicht
A5: N | B5: Nachtschicht
A6: U | B6: Urlaub
A7: K | B7: Krank
A8: - | B8: frei
